BEGIN:VCALENDAR
VERSION:2.0
PRODID:spatie/icalendar-generator
DESCRIPTION:Events from 
X-WR-CALDESC:Events from 
REFRESH-INTERVAL;VALUE=DURATION:PT1440M
X-PUBLISHED-TTL:PT1440M
BEGIN:VTIMEZONE
TZID:Etc/GMT+0
BEGIN:STANDARD
DTSTART:20250702T000000Z
TZOFFSETFROM:+0000
TZOFFSETTO:+0000
END:STANDARD
END:VTIMEZONE
BEGIN:VTIMEZONE
TZID:UTC
BEGIN:STANDARD
DTSTART:20250727T020226Z
TZOFFSETFROM:+0000
TZOFFSETTO:+0000
END:STANDARD
END:VTIMEZONE
BEGIN:VEVENT
UID:7749-428
DTSTAMP:20260423T020226Z
SUMMARY:Pastor Tim and Joe going to North Carolina
LOCATION:First Baptist Church of Bronson Mi 140 Buchanan St  BRONSON MI 490
 28
ORGANIZER;CN=Robert Stuck:MAILTO:admin@firstbaptistbronson.com
DTSTART;TZID=Etc/GMT+0;VALUE=DATE:20260329
DTEND;TZID=Etc/GMT+0;VALUE=DATE:20260405
X-ALT-DESC;FMTTYPE=TEXT/HTML:
CATEGORIES:Missionary
URL;VALUE=URI:https://firstbaptistbronson.com/mc-events/pastor-tim-and-joe-
 going-to-north-carolina/
METHOD:PUBLISH
END:VEVENT
BEGIN:VEVENT
UID:7749-428
DTSTAMP:20260423T020226Z
SUMMARY:Pastor Tim and Joe going to North Carolina
LOCATION:First Baptist Church of Bronson Mi 140 Buchanan St  BRONSON MI 490
 28
ORGANIZER;CN=Robert Stuck:MAILTO:admin@firstbaptistbronson.com
DTSTART;TZID=Etc/GMT+0;VALUE=DATE:20260329
DTEND;TZID=Etc/GMT+0;VALUE=DATE:20260405
X-ALT-DESC;FMTTYPE=TEXT/HTML:
CATEGORIES:Missionary
URL;VALUE=URI:https://firstbaptistbronson.com/mc-events/pastor-tim-and-joe-
 going-to-north-carolina/
METHOD:PUBLISH
END:VEVENT
BEGIN:VEVENT
UID:7749-428
DTSTAMP:20260423T020226Z
SUMMARY:Pastor Tim and Joe going to North Carolina
LOCATION:First Baptist Church of Bronson Mi 140 Buchanan St  BRONSON MI 490
 28
ORGANIZER;CN=Robert Stuck:MAILTO:admin@firstbaptistbronson.com
DTSTART;TZID=Etc/GMT+0;VALUE=DATE:20260329
DTEND;TZID=Etc/GMT+0;VALUE=DATE:20260405
X-ALT-DESC;FMTTYPE=TEXT/HTML:
CATEGORIES:Missionary
URL;VALUE=URI:https://firstbaptistbronson.com/mc-events/pastor-tim-and-joe-
 going-to-north-carolina/
METHOD:PUBLISH
END:VEVENT
BEGIN:VEVENT
UID:7749-428
DTSTAMP:20260423T020226Z
SUMMARY:Pastor Tim and Joe going to North Carolina
LOCATION:First Baptist Church of Bronson Mi 140 Buchanan St  BRONSON MI 490
 28
ORGANIZER;CN=Robert Stuck:MAILTO:admin@firstbaptistbronson.com
DTSTART;TZID=Etc/GMT+0;VALUE=DATE:20260329
DTEND;TZID=Etc/GMT+0;VALUE=DATE:20260405
X-ALT-DESC;FMTTYPE=TEXT/HTML:
CATEGORIES:Missionary
URL;VALUE=URI:https://firstbaptistbronson.com/mc-events/pastor-tim-and-joe-
 going-to-north-carolina/
METHOD:PUBLISH
END:VEVENT
BEGIN:VEVENT
UID:7711-3
DTSTAMP:20260423T020226Z
SUMMARY:Wednesday Bible Study &amp;amp\; Prayer Meeting
LOCATION:First Baptist Church of Bronson Mi 140 Buchanan St  BRONSON MI 490
 28
ORGANIZER;CN=Robert Stuck:MAILTO:admin@firstbaptistbronson.com
DTSTART;TZID=Etc/GMT+0:20260401T180000
DTEND;TZID=Etc/GMT+0:20260401T190000
X-ALT-DESC;FMTTYPE=TEXT/HTML:
CATEGORIES:Service
URL;VALUE=URI:https://firstbaptistbronson.com/mc-events/wednesday-bible-stu
 dy-prayer-meeting/
METHOD:PUBLISH
END:VEVENT
BEGIN:VEVENT
UID:7749-428
DTSTAMP:20260423T020226Z
SUMMARY:Pastor Tim and Joe going to North Carolina
LOCATION:First Baptist Church of Bronson Mi 140 Buchanan St  BRONSON MI 490
 28
ORGANIZER;CN=Robert Stuck:MAILTO:admin@firstbaptistbronson.com
DTSTART;TZID=Etc/GMT+0;VALUE=DATE:20260329
DTEND;TZID=Etc/GMT+0;VALUE=DATE:20260405
X-ALT-DESC;FMTTYPE=TEXT/HTML:
CATEGORIES:Missionary
URL;VALUE=URI:https://firstbaptistbronson.com/mc-events/pastor-tim-and-joe-
 going-to-north-carolina/
METHOD:PUBLISH
END:VEVENT
BEGIN:VEVENT
UID:7749-428
DTSTAMP:20260423T020226Z
SUMMARY:Pastor Tim and Joe going to North Carolina
LOCATION:First Baptist Church of Bronson Mi 140 Buchanan St  BRONSON MI 490
 28
ORGANIZER;CN=Robert Stuck:MAILTO:admin@firstbaptistbronson.com
DTSTART;TZID=Etc/GMT+0;VALUE=DATE:20260329
DTEND;TZID=Etc/GMT+0;VALUE=DATE:20260405
X-ALT-DESC;FMTTYPE=TEXT/HTML:
CATEGORIES:Missionary
URL;VALUE=URI:https://firstbaptistbronson.com/mc-events/pastor-tim-and-joe-
 going-to-north-carolina/
METHOD:PUBLISH
END:VEVENT
BEGIN:VEVENT
UID:7755-396
DTSTAMP:20260423T020226Z
SUMMARY:Good Friday Service
LOCATION:First Baptist Church of Bronson Mi 140 Buchanan St  BRONSON MI 490
 28
ORGANIZER;CN=Robert Stuck:MAILTO:admin@firstbaptistbronson.com
DTSTART;TZID=Etc/GMT+0;VALUE=DATE:20260403
DTEND;TZID=Etc/GMT+0;VALUE=DATE:20260404
X-ALT-DESC;FMTTYPE=TEXT/HTML:Service at Colon Baptist 5:00pm\, meal to foll
 ow
CATEGORIES:Holiday
URL;VALUE=URI:https://firstbaptistbronson.com/mc-events/good-friday-service
 -3/
METHOD:PUBLISH
END:VEVENT
BEGIN:VEVENT
UID:7749-428
DTSTAMP:20260423T020226Z
SUMMARY:Pastor Tim and Joe going to North Carolina
LOCATION:First Baptist Church of Bronson Mi 140 Buchanan St  BRONSON MI 490
 28
ORGANIZER;CN=Robert Stuck:MAILTO:admin@firstbaptistbronson.com
DTSTART;TZID=Etc/GMT+0;VALUE=DATE:20260329
DTEND;TZID=Etc/GMT+0;VALUE=DATE:20260405
X-ALT-DESC;FMTTYPE=TEXT/HTML:
CATEGORIES:Missionary
URL;VALUE=URI:https://firstbaptistbronson.com/mc-events/pastor-tim-and-joe-
 going-to-north-carolina/
METHOD:PUBLISH
END:VEVENT
BEGIN:VEVENT
UID:7758-313
DTSTAMP:20260423T020226Z
SUMMARY:Easter Day
LOCATION:First Baptist Church of Bronson Mi 140 Buchanan St  BRONSON MI 490
 28
ORGANIZER;CN=Robert Stuck:MAILTO:admin@firstbaptistbronson.com
DTSTART;TZID=Etc/GMT+0;VALUE=DATE:20260405
DTEND;TZID=Etc/GMT+0;VALUE=DATE:20260406
X-ALT-DESC;FMTTYPE=TEXT/HTML:He Has Risen!!
CATEGORIES:Holiday
URL;VALUE=URI:https://firstbaptistbronson.com/mc-events/easter-day/
METHOD:PUBLISH
END:VEVENT
BEGIN:VEVENT
UID:7667-205
DTSTAMP:20260423T020226Z
SUMMARY:Head Usher - Doug Elkins
LOCATION:First Baptist Church of Bronson Mi 140 Buchanan St  BRONSON MI 490
 28
ORGANIZER;CN=Robert Stuck:MAILTO:admin@firstbaptistbronson.com
DTSTART;TZID=Etc/GMT+0:20260405T110000
DTEND;TZID=Etc/GMT+0:20260405T120000
X-ALT-DESC;FMTTYPE=TEXT/HTML:
CATEGORIES:Service
URL;VALUE=URI:https://firstbaptistbronson.com/mc-events/head-usher-doug-elk
 ins/
METHOD:PUBLISH
END:VEVENT
BEGIN:VEVENT
UID:7537-55
DTSTAMP:20260423T020226Z
SUMMARY:Sunday Morning Service
LOCATION:First Baptist Church of Bronson Mi 140 Buchanan St  BRONSON MI 490
 28
ORGANIZER;CN=Robert Stuck:MAILTO:admin@firstbaptistbronson.com
DTSTART;TZID=Etc/GMT+0:20260405T110000
DTEND;TZID=Etc/GMT+0:20260405T120000
X-ALT-DESC;FMTTYPE=TEXT/HTML:
CATEGORIES:Service
URL;VALUE=URI:https://firstbaptistbronson.com/mc-events/sunday-morning-serv
 ice/
METHOD:PUBLISH
END:VEVENT
BEGIN:VEVENT
UID:7712-3
DTSTAMP:20260423T020226Z
SUMMARY:Wednesday Bible Study &amp;amp\; Prayer Meeting
LOCATION:First Baptist Church of Bronson Mi 140 Buchanan St  BRONSON MI 490
 28
ORGANIZER;CN=Robert Stuck:MAILTO:admin@firstbaptistbronson.com
DTSTART;TZID=Etc/GMT+0:20260408T180000
DTEND;TZID=Etc/GMT+0:20260408T190000
X-ALT-DESC;FMTTYPE=TEXT/HTML:
CATEGORIES:Service
URL;VALUE=URI:https://firstbaptistbronson.com/mc-events/wednesday-bible-stu
 dy-prayer-meeting/
METHOD:PUBLISH
END:VEVENT
BEGIN:VEVENT
UID:7668-205
DTSTAMP:20260423T020226Z
SUMMARY:Head Usher - Doug Elkins
LOCATION:First Baptist Church of Bronson Mi 140 Buchanan St  BRONSON MI 490
 28
ORGANIZER;CN=Robert Stuck:MAILTO:admin@firstbaptistbronson.com
DTSTART;TZID=Etc/GMT+0:20260412T110000
DTEND;TZID=Etc/GMT+0:20260412T120000
X-ALT-DESC;FMTTYPE=TEXT/HTML:
CATEGORIES:Service
URL;VALUE=URI:https://firstbaptistbronson.com/mc-events/head-usher-doug-elk
 ins/
METHOD:PUBLISH
END:VEVENT
BEGIN:VEVENT
UID:7538-55
DTSTAMP:20260423T020226Z
SUMMARY:Sunday Morning Service
LOCATION:First Baptist Church of Bronson Mi 140 Buchanan St  BRONSON MI 490
 28
ORGANIZER;CN=Robert Stuck:MAILTO:admin@firstbaptistbronson.com
DTSTART;TZID=Etc/GMT+0:20260412T110000
DTEND;TZID=Etc/GMT+0:20260412T120000
X-ALT-DESC;FMTTYPE=TEXT/HTML:
CATEGORIES:Service
URL;VALUE=URI:https://firstbaptistbronson.com/mc-events/sunday-morning-serv
 ice/
METHOD:PUBLISH
END:VEVENT
BEGIN:VEVENT
UID:7591-192
DTSTAMP:20260423T020226Z
SUMMARY:Sunday Evening Service
LOCATION:First Baptist Church of Bronson Mi 140 Buchanan St  BRONSON MI 490
 28
ORGANIZER;CN=Robert Stuck:MAILTO:admin@firstbaptistbronson.com
DTSTART;TZID=Etc/GMT+0:20260412T180000
DTEND;TZID=Etc/GMT+0:20260412T190000
X-ALT-DESC;FMTTYPE=TEXT/HTML:
CATEGORIES:Service
URL;VALUE=URI:https://firstbaptistbronson.com/mc-events/sunday-evening-serv
 ice/
METHOD:PUBLISH
END:VEVENT
BEGIN:VEVENT
UID:7698-228
DTSTAMP:20260423T020226Z
SUMMARY:Communion Service PM
LOCATION:First Baptist Church of Bronson Mi 140 Buchanan St  BRONSON MI 490
 28
ORGANIZER;CN=Robert Stuck:MAILTO:admin@firstbaptistbronson.com
DTSTART;TZID=Etc/GMT+0:20260412T184500
DTEND;TZID=Etc/GMT+0:20260412T190000
X-ALT-DESC;FMTTYPE=TEXT/HTML:Ryan and Doug on the platform
CATEGORIES:Communion
URL;VALUE=URI:https://firstbaptistbronson.com/mc-events/communion-service-p
 m-3/
METHOD:PUBLISH
END:VEVENT
BEGIN:VEVENT
UID:7713-3
DTSTAMP:20260423T020226Z
SUMMARY:Wednesday Bible Study &amp;amp\; Prayer Meeting
LOCATION:First Baptist Church of Bronson Mi 140 Buchanan St  BRONSON MI 490
 28
ORGANIZER;CN=Robert Stuck:MAILTO:admin@firstbaptistbronson.com
DTSTART;TZID=Etc/GMT+0:20260415T180000
DTEND;TZID=Etc/GMT+0:20260415T190000
X-ALT-DESC;FMTTYPE=TEXT/HTML:
CATEGORIES:Service
URL;VALUE=URI:https://firstbaptistbronson.com/mc-events/wednesday-bible-stu
 dy-prayer-meeting/
METHOD:PUBLISH
END:VEVENT
BEGIN:VEVENT
UID:7669-205
DTSTAMP:20260423T020226Z
SUMMARY:Head Usher - Doug Elkins
LOCATION:First Baptist Church of Bronson Mi 140 Buchanan St  BRONSON MI 490
 28
ORGANIZER;CN=Robert Stuck:MAILTO:admin@firstbaptistbronson.com
DTSTART;TZID=Etc/GMT+0:20260419T110000
DTEND;TZID=Etc/GMT+0:20260419T120000
X-ALT-DESC;FMTTYPE=TEXT/HTML:
CATEGORIES:Service
URL;VALUE=URI:https://firstbaptistbronson.com/mc-events/head-usher-doug-elk
 ins/
METHOD:PUBLISH
END:VEVENT
BEGIN:VEVENT
UID:7539-55
DTSTAMP:20260423T020226Z
SUMMARY:Sunday Morning Service
LOCATION:First Baptist Church of Bronson Mi 140 Buchanan St  BRONSON MI 490
 28
ORGANIZER;CN=Robert Stuck:MAILTO:admin@firstbaptistbronson.com
DTSTART;TZID=Etc/GMT+0:20260419T110000
DTEND;TZID=Etc/GMT+0:20260419T120000
X-ALT-DESC;FMTTYPE=TEXT/HTML:
CATEGORIES:Service
URL;VALUE=URI:https://firstbaptistbronson.com/mc-events/sunday-morning-serv
 ice/
METHOD:PUBLISH
END:VEVENT
BEGIN:VEVENT
UID:7592-192
DTSTAMP:20260423T020226Z
SUMMARY:Sunday Evening Service
LOCATION:First Baptist Church of Bronson Mi 140 Buchanan St  BRONSON MI 490
 28
ORGANIZER;CN=Robert Stuck:MAILTO:admin@firstbaptistbronson.com
DTSTART;TZID=Etc/GMT+0:20260419T180000
DTEND;TZID=Etc/GMT+0:20260419T190000
X-ALT-DESC;FMTTYPE=TEXT/HTML:
CATEGORIES:Service
URL;VALUE=URI:https://firstbaptistbronson.com/mc-events/sunday-evening-serv
 ice/
METHOD:PUBLISH
END:VEVENT
BEGIN:VEVENT
UID:7759-386
DTSTAMP:20260423T020226Z
SUMMARY:Advisory Board Meeting
LOCATION:First Baptist Church of Bronson Mi 140 Buchanan St  BRONSON MI 490
 28
ORGANIZER;CN=Robert Stuck:MAILTO:admin@firstbaptistbronson.com
DTSTART;TZID=Etc/GMT+0:20260420T100000
DTEND;TZID=Etc/GMT+0:20260420T110000
X-ALT-DESC;FMTTYPE=TEXT/HTML:Doug Elkins has devotions
CATEGORIES:Meeting
URL;VALUE=URI:https://firstbaptistbronson.com/mc-events/advisory-board-meet
 ing-15/
METHOD:PUBLISH
END:VEVENT
BEGIN:VEVENT
UID:7714-3
DTSTAMP:20260423T020226Z
SUMMARY:Wednesday Bible Study &amp;amp\; Prayer Meeting
LOCATION:First Baptist Church of Bronson Mi 140 Buchanan St  BRONSON MI 490
 28
ORGANIZER;CN=Robert Stuck:MAILTO:admin@firstbaptistbronson.com
DTSTART;TZID=Etc/GMT+0:20260422T180000
DTEND;TZID=Etc/GMT+0:20260422T190000
X-ALT-DESC;FMTTYPE=TEXT/HTML:
CATEGORIES:Service
URL;VALUE=URI:https://firstbaptistbronson.com/mc-events/wednesday-bible-stu
 dy-prayer-meeting/
METHOD:PUBLISH
END:VEVENT
BEGIN:VEVENT
UID:7670-205
DTSTAMP:20260423T020226Z
SUMMARY:Head Usher - Doug Elkins
LOCATION:First Baptist Church of Bronson Mi 140 Buchanan St  BRONSON MI 490
 28
ORGANIZER;CN=Robert Stuck:MAILTO:admin@firstbaptistbronson.com
DTSTART;TZID=Etc/GMT+0:20260426T110000
DTEND;TZID=Etc/GMT+0:20260426T120000
X-ALT-DESC;FMTTYPE=TEXT/HTML:
CATEGORIES:Service
URL;VALUE=URI:https://firstbaptistbronson.com/mc-events/head-usher-doug-elk
 ins/
METHOD:PUBLISH
END:VEVENT
BEGIN:VEVENT
UID:7685-317
DTSTAMP:20260423T020226Z
SUMMARY:Missionary \"Penny\" Offering Darlene Hull
LOCATION:First Baptist Church of Bronson Mi 140 Buchanan St  BRONSON MI 490
 28
ORGANIZER;CN=Robert Stuck:MAILTO:admin@firstbaptistbronson.com
DTSTART;TZID=Etc/GMT+0:20260426T110000
DTEND;TZID=Etc/GMT+0:20260426T120000
X-ALT-DESC;FMTTYPE=TEXT/HTML:Robert Stuck praying
CATEGORIES:special offering
URL;VALUE=URI:https://firstbaptistbronson.com/mc-events/missionary-penny-of
 fering-darlene-hull/
METHOD:PUBLISH
END:VEVENT
BEGIN:VEVENT
UID:7540-55
DTSTAMP:20260423T020226Z
SUMMARY:Sunday Morning Service
LOCATION:First Baptist Church of Bronson Mi 140 Buchanan St  BRONSON MI 490
 28
ORGANIZER;CN=Robert Stuck:MAILTO:admin@firstbaptistbronson.com
DTSTART;TZID=Etc/GMT+0:20260426T110000
DTEND;TZID=Etc/GMT+0:20260426T120000
X-ALT-DESC;FMTTYPE=TEXT/HTML:
CATEGORIES:Service
URL;VALUE=URI:https://firstbaptistbronson.com/mc-events/sunday-morning-serv
 ice/
METHOD:PUBLISH
END:VEVENT
BEGIN:VEVENT
UID:7761-342
DTSTAMP:20260423T020226Z
SUMMARY:Quarterly Business Meeting
LOCATION:First Baptist Church of Bronson Mi 140 Buchanan St  BRONSON MI 490
 28
ORGANIZER;CN=Robert Stuck:MAILTO:admin@firstbaptistbronson.com
DTSTART;TZID=Etc/GMT+0:20260426T120500
DTEND;TZID=Etc/GMT+0:20260426T130000
X-ALT-DESC;FMTTYPE=TEXT/HTML:
CATEGORIES:Meeting
URL;VALUE=URI:https://firstbaptistbronson.com/mc-events/quarterly-business-
 meeting-2/
METHOD:PUBLISH
END:VEVENT
BEGIN:VEVENT
UID:7593-192
DTSTAMP:20260423T020226Z
SUMMARY:Sunday Evening Service
LOCATION:First Baptist Church of Bronson Mi 140 Buchanan St  BRONSON MI 490
 28
ORGANIZER;CN=Robert Stuck:MAILTO:admin@firstbaptistbronson.com
DTSTART;TZID=Etc/GMT+0:20260426T180000
DTEND;TZID=Etc/GMT+0:20260426T190000
X-ALT-DESC;FMTTYPE=TEXT/HTML:
CATEGORIES:Service
URL;VALUE=URI:https://firstbaptistbronson.com/mc-events/sunday-evening-serv
 ice/
METHOD:PUBLISH
END:VEVENT
BEGIN:VEVENT
UID:7715-3
DTSTAMP:20260423T020226Z
SUMMARY:Wednesday Bible Study &amp;amp\; Prayer Meeting
LOCATION:First Baptist Church of Bronson Mi 140 Buchanan St  BRONSON MI 490
 28
ORGANIZER;CN=Robert Stuck:MAILTO:admin@firstbaptistbronson.com
DTSTART;TZID=Etc/GMT+0:20260429T180000
DTEND;TZID=Etc/GMT+0:20260429T190000
X-ALT-DESC;FMTTYPE=TEXT/HTML:
CATEGORIES:Service
URL;VALUE=URI:https://firstbaptistbronson.com/mc-events/wednesday-bible-stu
 dy-prayer-meeting/
METHOD:PUBLISH
END:VEVENT
END:VCALENDAR